BEGIN:VCALENDAR
VERSION:2.0
PRODID:TU Chemnitz
METHOD:PUBLISH
X-WR-CALNAME:Veranstaltungen der TU Chemnitz
X-WR-TIMEZONE:Europe/Berlin
BEGIN:VEVENT
CLASS:PUBLIC
DTSTART;TZID="Europe/Berlin":19990114T160000
DTEND;TZID="Europe/Berlin":19990114T160000
LOCATION:Uni-Teil 1: Str. der Nationen 62\, Chemnitz (Böttcher-Bau)
SUMMARY:Chemisches Kolloquium: "Serendipity\, Visionen und geplante (Industrie-)Forschung rund um das Silizium" (Fakultät für Naturwissenschaften\, Institut für Chemie)
DESCRIPTION:Prof. Dr. Peter Kleinschmit\, Degussa AG Hanau\nProf. Dr. Klaus Banert\, Tel. 5 31-14 63
ORGANIZER:MAILTO:iroe@hrz.tu-chemnitz.de
UID:257@www.tu-chemnitz.de
CREATED:19990107T122800Z
DTSTAMP:20210802T203525Z
END:VEVENT
END:VCALENDAR
