BEGIN:VCALENDAR
VERSION:2.0
PRODID:TU Chemnitz
METHOD:PUBLISH
X-WR-CALNAME:Veranstaltungen der TU Chemnitz
X-WR-TIMEZONE:Europe/Berlin
BEGIN:VEVENT
CLASS:PUBLIC
DTSTART;TZID="Europe/Berlin":20021014T180000
DTEND;TZID="Europe/Berlin":20021014T190000
LOCATION:Jakobi-Johannis-Kirche am Rathaus
SUMMARY:Semesteranfangsgottesdienst (Christliche Hochschulgemeinden an der TU Chemnitz)
DESCRIPTION:im Anschluss an die Immatrikulationsfeier\nThema: GLAUBE - entdecke die Möglichkeiten\n\nAnschließend Beisammensein & Austausch bei einem Imbiss\nStudentenpfarrer M. Prause\, Ch. Weber\nksg-sprecher@tu-chemnitz.de
ORGANIZER:MAILTO:soens@hrz.tu-chemnitz.de
UID:2568@www.tu-chemnitz.de
CREATED:20020722T135500Z
DTSTAMP:20210802T202248Z
END:VEVENT
END:VCALENDAR
