BEGIN:VCALENDAR
VERSION:2.0
PRODID:TU Chemnitz
METHOD:PUBLISH
X-WR-CALNAME:Veranstaltungen der TU Chemnitz
X-WR-TIMEZONE:Europe/Berlin
BEGIN:VEVENT
CLASS:PUBLIC
DTSTART;TZID="Europe/Berlin":20020719T210000
DTEND;TZID="Europe/Berlin":20020720T030000
LOCATION:Reichenhainer Str. 37\, Keller
SUMMARY:Salsaabend im PEB-Studentenkeller (PEB-Studentenkeller)
DESCRIPTION:Kostenloser Salsa-Kurs\,\ndie besten Cocktails\,\nTanzen\, Tanzen\, Tanzen...\n\nEintritt 1 Euro\nJose und Jean-Marie\npeb-club@tu-chemnitz.de
ORGANIZER:MAILTO:cobr@hrz.tu-chemnitz.de
UID:2559@www.tu-chemnitz.de
CREATED:20020719T091300Z
DTSTAMP:20210802T202419Z
END:VEVENT
END:VCALENDAR
