BEGIN:VCALENDAR
VERSION:2.0
PRODID:TU Chemnitz
METHOD:PUBLISH
X-WR-CALNAME:Veranstaltungen der TU Chemnitz
X-WR-TIMEZONE:Europe/Berlin
BEGIN:VEVENT
CLASS:PUBLIC
DTSTART;TZID="Europe/Berlin":20020723T210000
DTEND;TZID="Europe/Berlin":20020723T235500
LOCATION:Reichenhainer Str. 35/37\, Keller
SUMMARY:Filmclub "mittendrin": Iris (Filmclub "mittendrin")
DESCRIPTION:"Iris" ist keine konventionelle Biografie\, sondern schildert im steten Wechsel zwischen gestern und heute besondere Momente des Lebens von Iris Murdoch. \nDas Resultat: fesselnd\, rührend und auch mal schmerzhaft ungeschminkt. Ein Genuss. (TV Movie)
ORGANIZER:MAILTO:schneid@hrz.tu-chemnitz.de
UID:2556@www.tu-chemnitz.de
CREATED:20020716T181400Z
DTSTAMP:20210802T202409Z
END:VEVENT
END:VCALENDAR
