BEGIN:VCALENDAR
VERSION:2.0
PRODID:TU Chemnitz
METHOD:PUBLISH
X-WR-CALNAME:Veranstaltungen der TU Chemnitz
X-WR-TIMEZONE:Europe/Berlin
BEGIN:VEVENT
CLASS:PUBLIC
DTSTART;TZID="Europe/Berlin":19990429T150000
DTEND;TZID="Europe/Berlin":19990429T150000
LOCATION:Uni-Teil 3: Reichenhainer Str. 70\, Chemnitz (Rühlmann-Bau)
SUMMARY:Kolloquium des Sonderforschungsbereiches 379 "Mikromechanische Sensor- und Aktorarrays": "Integriert optische Strukturen in/auf Silizium" (Fakultät für Elektrotechnik und Informationstechnik\, Fakultät für Maschinenbau und Verfahrenstechnik\, Fakultät für Naturwissenschaften)
DESCRIPTION:Dipl.-Ing. Bernd Schauwecker\, Institut für Mikrosystem- und Halbleitertechnik\, TU Chemnitz\nDr. Wolfgang Seckel\, Tel. 5 31-32 61
ORGANIZER:MAILTO:iroe@hrz.tu-chemnitz.de
UID:255@www.tu-chemnitz.de
CREATED:19990107T120200Z
DTSTAMP:20210802T203437Z
END:VEVENT
END:VCALENDAR
