BEGIN:VCALENDAR
VERSION:2.0
PRODID:TU Chemnitz
METHOD:PUBLISH
X-WR-CALNAME:Veranstaltungen der TU Chemnitz
X-WR-TIMEZONE:Europe/Berlin
BEGIN:VEVENT
CLASS:PUBLIC
DTSTART;TZID="Europe/Berlin":20021107T200000
DTEND;TZID="Europe/Berlin":20021107T230000
LOCATION:Reichenhainer Str. 55\, Chemnitz (Mensa)
SUMMARY:Diavortrag Mensa - Rüdiger Nehberg (Studentenclub TaC)
DESCRIPTION:Rüdiger Nehberg berichtet zum ersten Mal auf dem Campus \nder TU Chemnitz von seinen unglaublichen Abenteuern in \nder ganzen Welt ! Der erste Vortrag in einer 5-teiligen \nVortragsreihe in der Mensa mit den verschiedensten\nÜberlebenkünstlern./ www.boofer.de
ORGANIZER:MAILTO:made@hrz.tu-chemnitz.de
UID:2546@www.tu-chemnitz.de
CREATED:20020708T160700Z
DTSTAMP:20210802T202215Z
END:VEVENT
END:VCALENDAR
