BEGIN:VCALENDAR
VERSION:2.0
PRODID:TU Chemnitz
METHOD:PUBLISH
X-WR-CALNAME:Veranstaltungen der TU Chemnitz
X-WR-TIMEZONE:Europe/Berlin
BEGIN:VEVENT
CLASS:PUBLIC
DTSTART;TZID="Europe/Berlin":20020711T180000
DTEND;TZID="Europe/Berlin":20020711T200000
LOCATION:Reichenhainer Str. 41\, Chemnitz
SUMMARY:Workshop Time- & Knowledgemanagement (AIESEC in Chemnitz)
DESCRIPTION:Alles Relevante was Du in Vorbereitung und zum Bestehen Deiner Prüfungen über effektives Zeit- und Wissensmanagement sowie Lernstrategien erfahren solltest. Unterbrich das Lernen für diese zwei Stunden und Du wirst den Sommer genießen.\nRemo Vogelsang (Consultant MLP AG)
ORGANIZER:MAILTO:ralh@hrz.tu-chemnitz.de
UID:2541@www.tu-chemnitz.de
CREATED:20020705T135500Z
DTSTAMP:20210802T202419Z
END:VEVENT
END:VCALENDAR
