BEGIN:VCALENDAR
VERSION:2.0
PRODID:TU Chemnitz
METHOD:PUBLISH
X-WR-CALNAME:Veranstaltungen der TU Chemnitz
X-WR-TIMEZONE:Europe/Berlin
BEGIN:VEVENT
CLASS:PUBLIC
DTSTART;TZID="Europe/Berlin":19990325T150000
DTEND;TZID="Europe/Berlin":19990325T150000
LOCATION:Uni-Teil 3: Reichenhainer Str. 70\, Chemnitz (Weinhold-Bau)
SUMMARY:Kolloquium des Sonderforschungsbereiches 379 "Mikromechanische Sensor- und Aktorarrays": "Vielzellige hochfrequente Mikrospiegelarrays für Projektionszwecke - Applikationsperspektiven und physikalische Grenzen" (Fakultät für Elektrotechnik und Informationstechnik\, Fakultät für Maschinenbau und Verfahrenstechnik\, Fakultät für Naturwissenschaften)
DESCRIPTION:Terminänderung: Dieses Kolloquium fällt am 25. März 1999 aus. Neuer Termin: 20. Mai 1999\, 15.00 Uhr.\nDr. Steffen Kurth\, Dipl.-Ing. Kersten Kehr\, Dr. Christian Kaufmann\, Dipl.-Ing. Ramon Hahn\, Dipl.-Ing. Ralf Seidel\, TU Chemnitz\nDr. Wolfgang Seckel\, Tel. 5 31-32 61
ORGANIZER:MAILTO:iroe@hrz.tu-chemnitz.de
UID:253@www.tu-chemnitz.de
CREATED:19990107T105600Z
DTSTAMP:20210802T203452Z
END:VEVENT
END:VCALENDAR
