BEGIN:VCALENDAR
VERSION:2.0
PRODID:TU Chemnitz
METHOD:PUBLISH
X-WR-CALNAME:Veranstaltungen der TU Chemnitz
X-WR-TIMEZONE:Europe/Berlin
BEGIN:VEVENT
CLASS:PUBLIC
DTSTART;TZID="Europe/Berlin":20020625T190000
DTEND;TZID="Europe/Berlin":20020625T230000
LOCATION:Reichenhainer Str. 70\, Chemnitz (Weinhold-Bau)
SUMMARY:MBV-Informationsveranstaltung für Viertsemester (Fakultät für Maschinenbau und Verfahrenstechnik\, Fachschaftsrat)
DESCRIPTION:Alle Studenten der Fakultät für MBV des 4. Semesters sind recht herzlich eingeladen\, mit den verantwortlichen Professoren über die Wahl ihrer Vertiefungsrichtung im Hauptstudium zu sprechen.\n\nFSR MBV und viele Professoren der Fakultät\nfsrmbv@tu-chemnitz.de
ORGANIZER:MAILTO:rahe@hrz.tu-chemnitz.de
UID:2503@www.tu-chemnitz.de
CREATED:20020621T212200Z
DTSTAMP:20210802T202430Z
END:VEVENT
END:VCALENDAR
