BEGIN:VCALENDAR
VERSION:2.0
PRODID:TU Chemnitz
METHOD:PUBLISH
X-WR-CALNAME:Veranstaltungen der TU Chemnitz
X-WR-TIMEZONE:Europe/Berlin
BEGIN:VEVENT
CLASS:PUBLIC
DTSTART;TZID="Europe/Berlin":20020626T113000
DTEND;TZID="Europe/Berlin":20020626T130000
LOCATION:Rathausplatz in der Innenstadt von Chemnitz
SUMMARY:Mikroökonomie-Vorlesung auf dem Rathausplatz in der Innenstadt (FSR WiWi)
DESCRIPTION:\nWir haben Prof. Helmedag gebeten\, seine Vorlesung ins Freie zu verlegen! Er ist unserem Wunsch nachgekommen!\n\nWir wollen damit auf die konzeptionslose Sparpolitik der Sächsischen Staatsregierung aufmerksam machen!\n\n\nDer Fachschaftsrat hilft!\nProf. Dr. Fritz Helmedag\nfsrwiwi@tu-chemnitz.de
ORGANIZER:MAILTO:marck@hrz.tu-chemnitz.de
UID:2499@www.tu-chemnitz.de
CREATED:20020620T122400Z
DTSTAMP:20210802T202430Z
END:VEVENT
END:VCALENDAR
