BEGIN:VCALENDAR
VERSION:2.0
PRODID:TU Chemnitz
METHOD:PUBLISH
X-WR-CALNAME:Veranstaltungen der TU Chemnitz
X-WR-TIMEZONE:Europe/Berlin
BEGIN:VEVENT
CLASS:PUBLIC
DTSTART;TZID="Europe/Berlin":20020619T213000
DTEND;TZID="Europe/Berlin":20020620T020000
LOCATION:Reichenhainer Str. 37\, Keller
SUMMARY:Mittwochsdisco (PEB-Studentenkeller)
DESCRIPTION:Cocktails\, Party\, nette Leute....\nPEB-Studentenkeller\npeb-club@tu-chemnitz.de
ORGANIZER:MAILTO:cobr@hrz.tu-chemnitz.de
UID:2488@www.tu-chemnitz.de
CREATED:20020618T093600Z
DTSTAMP:20210802T202433Z
END:VEVENT
END:VCALENDAR
