BEGIN:VCALENDAR
VERSION:2.0
PRODID:TU Chemnitz
METHOD:PUBLISH
X-WR-CALNAME:Veranstaltungen der TU Chemnitz
X-WR-TIMEZONE:Europe/Berlin
BEGIN:VEVENT
CLASS:PUBLIC
DTSTART;TZID="Europe/Berlin":20020620T153000
DTEND;TZID="Europe/Berlin":20020620T170000
LOCATION:Reichenhainer Str. 70\, Chemnitz (Zentr. Hörsaal- und Seminargebäude)
SUMMARY:"Die Zukunft der sächsischen Universitäten am Beispiel TU Chemnitz" (Radio UNiCC e.V. - Das Uniradio an der TU Chemnitz)
DESCRIPTION:-Herr Prof. Dr. Lang\, Prorektor TU Chemnitz\n-Herr Kanzler\, Siemens AG \n-Herr Fietsch\, ChemTel\n-Herr Bochmann\, Pressesprecher Stadt Chemnitz\n-Herr Michael Mischke\, Studentenrat TU Chemnitz\n\nRadio UNiCC e.V.\nhttp://www.radio-unicc.de/podium.html
ORGANIZER:MAILTO:wko@hrz.tu-chemnitz.de
UID:2474@www.tu-chemnitz.de
CREATED:20020612T190300Z
DTSTAMP:20210802T202437Z
END:VEVENT
END:VCALENDAR
