BEGIN:VCALENDAR
VERSION:2.0
PRODID:TU Chemnitz
METHOD:PUBLISH
X-WR-CALNAME:Veranstaltungen der TU Chemnitz
X-WR-TIMEZONE:Europe/Berlin
BEGIN:VEVENT
CLASS:PUBLIC
DTSTART;TZID="Europe/Berlin":20020620T153000
DTEND;TZID="Europe/Berlin":20020620T170000
LOCATION:Str. der Nationen 62\, Chemnitz (Böttcher-Bau)
SUMMARY:73. Informatik-Kolloquium: Read­Once Branchingprogramme und eine exponentielle untere Schranke über Universelles Hashing für die Multiplikation (Fakultät für Informatik)
DESCRIPTION:Alle interessierten Personen sind herzlich eingeladen!\nDr. Beate Bollig (Fachbereich Informatik\, Universität Dortmund)\nkolloquium@informatik.tu-chemnitz.de
ORGANIZER:MAILTO:lro@hrz.tu-chemnitz.de
UID:2473@www.tu-chemnitz.de
CREATED:20020612T151400Z
DTSTAMP:20210802T202431Z
END:VEVENT
END:VCALENDAR
