BEGIN:VCALENDAR
VERSION:2.0
PRODID:TU Chemnitz
METHOD:PUBLISH
X-WR-CALNAME:Veranstaltungen der TU Chemnitz
X-WR-TIMEZONE:Europe/Berlin
BEGIN:VEVENT
CLASS:PUBLIC
DTSTART;TZID="Europe/Berlin":20020620T200000
DTEND;TZID="Europe/Berlin":20020620T235900
LOCATION:Sportplatz\, Chemnitz
SUMMARY:OPEN AIR "Campusfilmnächte" 2002: Jay und Silent Bob schlagen zurück (Filmclub mittendrin und PEB-Studentenkeller)
DESCRIPTION:Wer Dogma kennt\, kennt auch die beiden Nebenprotagnisten Jay und Silent Bob.\nMit diesem Film entschwindet das abgedrehteste Duo der Filmgeschichte in den Olymp von Hollywood.\n\nDazu natürlich die gigantischen PEB-Cocktails!\n\nEinlaß: 20.00\nFilm: ca 22.00
ORGANIZER:MAILTO:fuh@hrz.tu-chemnitz.de
UID:2452@www.tu-chemnitz.de
CREATED:20020604T173200Z
DTSTAMP:20210802T202431Z
END:VEVENT
END:VCALENDAR
