BEGIN:VCALENDAR
VERSION:2.0
PRODID:TU Chemnitz
METHOD:PUBLISH
X-WR-CALNAME:Veranstaltungen der TU Chemnitz
X-WR-TIMEZONE:Europe/Berlin
BEGIN:VEVENT
CLASS:PUBLIC
DTSTART;TZID="Europe/Berlin":20020619T200000
DTEND;TZID="Europe/Berlin":20020619T230000
LOCATION:Sportplatz\, Chemnitz
SUMMARY:OPEN AIR "Campusfilmnächte" 2002: Käpt´n Blaubär (Filmclub mittendrin und PEB-Studentenkeller)
DESCRIPTION:Heute wird erstmalig der neue Cocktail Käpt´n Blaubär vom PEB-Studentenkeller präsentiert. \nDazu gibts den Film mit der erbittertsten Schachfeindschaft der Filmgeschichte.\n\nCocktails natürlich by PEB-Studentenkeller!\n\nEinlass:20.00\nFilm: ca 22.00
ORGANIZER:MAILTO:fuh@hrz.tu-chemnitz.de
UID:2451@www.tu-chemnitz.de
CREATED:20020604T172600Z
DTSTAMP:20210802T202426Z
END:VEVENT
END:VCALENDAR
