BEGIN:VCALENDAR
VERSION:2.0
PRODID:TU Chemnitz
METHOD:PUBLISH
X-WR-CALNAME:Veranstaltungen der TU Chemnitz
X-WR-TIMEZONE:Europe/Berlin
BEGIN:VEVENT
CLASS:PUBLIC
DTSTART;TZID="Europe/Berlin":20020619T193000
DTEND;TZID="Europe/Berlin":20020619T203000
LOCATION:Reichenhainer Str. 55\, Chemnitz (Mensa)
SUMMARY:LITERATUR live - Matthias Biskupek (TU Chemnitz)
DESCRIPTION:Im Rahmen der Veranstaltungsreihe LITERATUR live liest Matthias Biskupek aus seinem neuesten Werk \"Wetterbericht\". Der Eintritt ist wie immer frei\nMatthias Biskupek
ORGANIZER:MAILTO:mah@hrz.tu-chemnitz.de
UID:2442@www.tu-chemnitz.de
CREATED:20020603T133000Z
DTSTAMP:20210802T202429Z
END:VEVENT
END:VCALENDAR
