BEGIN:VCALENDAR
VERSION:2.0
PRODID:TU Chemnitz
METHOD:PUBLISH
X-WR-CALNAME:Veranstaltungen der TU Chemnitz
X-WR-TIMEZONE:Europe/Berlin
BEGIN:VEVENT
CLASS:PUBLIC
DTSTART;TZID="Europe/Berlin":20020604T210000
DTEND;TZID="Europe/Berlin":20020604T235900
LOCATION:Reichenhainer Str.35/37 Keller 09126 Chemnitz
SUMMARY:filmclub mittendrin: Amadeus (Filmclub mittendrin)
DESCRIPTION:Director's Cut - nach wie vor genial und absolut sehenswert! Regie Milos Forman (USA 1984)
ORGANIZER:MAILTO:fuh@hrz.tu-chemnitz.de
UID:2441@www.tu-chemnitz.de
CREATED:20020603T122700Z
DTSTAMP:20210802T202430Z
END:VEVENT
END:VCALENDAR
