BEGIN:VCALENDAR
VERSION:2.0
PRODID:TU Chemnitz
METHOD:PUBLISH
X-WR-CALNAME:Veranstaltungen der TU Chemnitz
X-WR-TIMEZONE:Europe/Berlin
BEGIN:VEVENT
CLASS:PUBLIC
DTSTART;TZID="Europe/Berlin":20020530T210000
DTEND;TZID="Europe/Berlin":20020530T230000
LOCATION:Reichenhainer Str.35/37 Keller 09126 Chemnitz
SUMMARY:Filmclub mittendrin: Monster AG (TU Chemnitz\, Filmclub mittendrin)
DESCRIPTION:
ORGANIZER:MAILTO:fuh@hrz.tu-chemnitz.de
UID:2430@www.tu-chemnitz.de
CREATED:20020528T165500Z
DTSTAMP:20210802T202449Z
END:VEVENT
END:VCALENDAR
