BEGIN:VCALENDAR
VERSION:2.0
PRODID:TU Chemnitz
METHOD:PUBLISH
X-WR-CALNAME:Veranstaltungen der TU Chemnitz
X-WR-TIMEZONE:Europe/Berlin
BEGIN:VEVENT
CLASS:PUBLIC
DTSTART;TZID="Europe/Berlin":20020530T130000
DTEND;TZID="Europe/Berlin":20020530T143000
LOCATION:Reichenhainer Str. 70\, Chemnitz (Zentr. Hörsaal- und Seminargebäude)
SUMMARY:Phasenumwandlungen und Reaktionskinetiken bei Stählen: Theorie und rechentechnische Umsetzung (Fakultät für Maschinenbau und Verfahrenstechnik\, Institut für Fertigungstechnik/Schweißtechnik)
DESCRIPTION:Prof. Dr. Peisker (BAF Freiberg)\, Frau Dr.Doktorowski (BAF)\, H.Porzner (ESI GmbH München)\, T.Steidten (Chemnitz)\nDr. U.Semmler\, Tel. 0371-531-2574\, ulrich.semmler@mbv.tu-chemnitz.de
ORGANIZER:MAILTO:seul@hrz.tu-chemnitz.de
UID:2429@www.tu-chemnitz.de
CREATED:20020528T144700Z
DTSTAMP:20210802T202458Z
END:VEVENT
END:VCALENDAR
