BEGIN:VCALENDAR
VERSION:2.0
PRODID:TU Chemnitz
METHOD:PUBLISH
X-WR-CALNAME:Veranstaltungen der TU Chemnitz
X-WR-TIMEZONE:Europe/Berlin
BEGIN:VEVENT
CLASS:PUBLIC
DTSTART;TZID="Europe/Berlin":20020524T220000
DTEND;TZID="Europe/Berlin":20020525T020000
LOCATION:Reichenhainer Str. 55\, Chemnitz (Mensa)
SUMMARY:Klinikum-Party der Schwesternschülerinnen (Studentenclub TaC)
DESCRIPTION:Ihr habt richtig gelesen. Heute feiern die Krankenschwestern im TAC. Mit 2\,- EUR ist man ab 22.00 Uhr dabei und kann mit den Krankenschwestern Party machen. Bis heute Abend. Tschau
ORGANIZER:MAILTO:asv@hrz.tu-chemnitz.de
UID:2413@www.tu-chemnitz.de
CREATED:20020524T140100Z
DTSTAMP:20210802T202501Z
END:VEVENT
END:VCALENDAR
