BEGIN:VCALENDAR
VERSION:2.0
PRODID:TU Chemnitz
METHOD:PUBLISH
X-WR-CALNAME:Veranstaltungen der TU Chemnitz
X-WR-TIMEZONE:Europe/Berlin
BEGIN:VEVENT
CLASS:PUBLIC
DTSTART;TZID="Europe/Berlin":19990120T163000
DTEND;TZID="Europe/Berlin":19990120T163000
LOCATION:Uni-Teil 3: Reichenhainer Str. 70\, Chemnitz (Weinhold-Bau)
SUMMARY:Physikalisches Kolloquium: "Struktur - Eigenschaftsbeziehungen nanokristalliner Materialien" (Fakultät für Naturwissenschaften\, Institut für Physik)
DESCRIPTION:Prof. Dr. Rainer Birringer\, Universität Saarbrücken\nProf. Dr. Jens-Boie Suck\, Tel. 5 31-80 33
ORGANIZER:MAILTO:iroe@hrz.tu-chemnitz.de
UID:238@www.tu-chemnitz.de
CREATED:/afs/.tu-chemnitz.de/www/log19981223T132000Z
DTSTAMP:20210802T203529Z
END:VEVENT
END:VCALENDAR
