BEGIN:VCALENDAR
VERSION:2.0
PRODID:TU Chemnitz
METHOD:PUBLISH
X-WR-CALNAME:Veranstaltungen der TU Chemnitz
X-WR-TIMEZONE:Europe/Berlin
BEGIN:VEVENT
CLASS:PUBLIC
DTSTART;TZID="Europe/Berlin":20020508T200000
DTEND;TZID="Europe/Berlin":20020509T040000
LOCATION:Reichenhainer Str. 55\, Chemnitz (Mensa)
SUMMARY:Männertagsvorfete mit DJ Rol & David und UEFA-Cup-Finale (Studentenclub TaC)
DESCRIPTION:was gibts es schöneres als den Männertag mit \neinem Kater zu beginnen und deswegen hier die \nGelegenheit dazu mit leckeren Cocktails\, \nDiskothek mit DJ Rol & David !!! Ausserdem übertragen wir das UEFA-Cup Finale Dortmund-Rotterdam...Eintritt frei !!
ORGANIZER:MAILTO:asv@hrz.tu-chemnitz.de
UID:2354@www.tu-chemnitz.de
CREATED:20020508T140800Z
DTSTAMP:20210802T202455Z
END:VEVENT
END:VCALENDAR
