BEGIN:VCALENDAR
VERSION:2.0
PRODID:TU Chemnitz
METHOD:PUBLISH
X-WR-CALNAME:Veranstaltungen der TU Chemnitz
X-WR-TIMEZONE:Europe/Berlin
BEGIN:VEVENT
CLASS:PUBLIC
DTSTART;TZID="Europe/Berlin":20020509T140000
DTEND;TZID="Europe/Berlin":20020509T230000
LOCATION:Reichenhainer Str. 55\, Chemnitz (Mensa)
SUMMARY:Biergarten zum Männertag (TU Chemnitz)
DESCRIPTION:ab 14.00 Uhr gibts den Biergarten und Grill auf dem Vorplatz Mensa.....also wer vom Radeln kommt ist dort dann richtig aufgehoben !!
ORGANIZER:MAILTO:made@hrz.tu-chemnitz.de
UID:2349@www.tu-chemnitz.de
CREATED:20020507T163000Z
DTSTAMP:20210802T202448Z
END:VEVENT
END:VCALENDAR
