BEGIN:VCALENDAR
VERSION:2.0
PRODID:TU Chemnitz
METHOD:PUBLISH
X-WR-CALNAME:Veranstaltungen der TU Chemnitz
X-WR-TIMEZONE:Europe/Berlin
BEGIN:VEVENT
CLASS:PUBLIC
DTSTART;TZID="Europe/Berlin":20020609T180000
DTEND;TZID="Europe/Berlin":20020609T200000
LOCATION:Schlosskirche im Innenhof des Schlosses Augustusburg
SUMMARY:Schlosskonzert des Collegium musicum der TU (TU Chemnitz\, Collegium musicum)
DESCRIPTION:Violinkonzert von Mendelssohn Bartholdy und Missa h-Moll von J.S.Bach\nPeter Krone\, Tel. 531 1484
ORGANIZER:MAILTO:meh@hrz.tu-chemnitz.de
UID:2339@www.tu-chemnitz.de
CREATED:20020503T072300Z
DTSTAMP:20210802T202425Z
END:VEVENT
END:VCALENDAR
