BEGIN:VCALENDAR
VERSION:2.0
PRODID:TU Chemnitz
METHOD:PUBLISH
X-WR-CALNAME:Veranstaltungen der TU Chemnitz
X-WR-TIMEZONE:Europe/Berlin
BEGIN:VEVENT
CLASS:PUBLIC
DTSTART;TZID="Europe/Berlin":20020725T213000
DTEND;TZID="Europe/Berlin":20020725T235900
LOCATION:Vettersstr. 70/72\, Chemnitz (Studentenwohnheim)
SUMMARY:Mirxxx - Der Wind raucht mit (bspw.)
DESCRIPTION:Ein Album mit Konzept\, welches der Wind aufrauchte.\nRelease-Party\nbspw@tu-chemnitz.de
ORGANIZER:MAILTO:hath@hrz.tu-chemnitz.de
UID:2331@www.tu-chemnitz.de
CREATED:20020423T224300Z
DTSTAMP:20210802T202417Z
END:VEVENT
END:VCALENDAR
