BEGIN:VCALENDAR
VERSION:2.0
PRODID:TU Chemnitz
METHOD:PUBLISH
X-WR-CALNAME:Veranstaltungen der TU Chemnitz
X-WR-TIMEZONE:Europe/Berlin
BEGIN:VEVENT
CLASS:PUBLIC
DTSTART;TZID="Europe/Berlin":20020422T080000
DTEND;TZID="Europe/Berlin":20020426T150000
LOCATION:Reichenhainer Str. 55\, Chemnitz (Mensa)
SUMMARY:Weltreligionen Weltfrieden Weltethos (Studentenwerk)
DESCRIPTION:Ausstellung der Stiftung Welt-Ethos mit Diskusionsabend am Donnerstag 20.00 Uhr in der Mensa
ORGANIZER:MAILTO:svsi@hrz.tu-chemnitz.de
UID:2322@www.tu-chemnitz.de
CREATED:20020423T112100Z
DTSTAMP:20210802T202506Z
END:VEVENT
END:VCALENDAR
