BEGIN:VCALENDAR
VERSION:2.0
PRODID:TU Chemnitz
METHOD:PUBLISH
X-WR-CALNAME:Veranstaltungen der TU Chemnitz
X-WR-TIMEZONE:Europe/Berlin
BEGIN:VEVENT
CLASS:PUBLIC
DTSTART;TZID="Europe/Berlin":20020515T210000
DTEND;TZID="Europe/Berlin":20020516T020000
LOCATION:Reichenhainer Str. 37 / Keller
SUMMARY:Cocktailabend im PEB-Studentenkeller (PEB-Studentenkeller)
DESCRIPTION:\n160 Cocktails\, Live-Band\, DJ und Chill-Out Area. Was soll man da noch sagen?\n\nPEB - Freude am Cocktail!\npeb-club@tu-chemnitz.de
ORGANIZER:MAILTO:gram@hrz.tu-chemnitz.de
UID:2320@www.tu-chemnitz.de
CREATED:20020423T102000Z
DTSTAMP:20210802T202459Z
END:VEVENT
END:VCALENDAR
