BEGIN:VCALENDAR
VERSION:2.0
PRODID:TU Chemnitz
METHOD:PUBLISH
X-WR-CALNAME:Veranstaltungen der TU Chemnitz
X-WR-TIMEZONE:Europe/Berlin
BEGIN:VEVENT
CLASS:PUBLIC
DTSTART;TZID="Europe/Berlin":20020425T210000
DTEND;TZID="Europe/Berlin":20020425T230000
LOCATION:Reichenhainer Str. 35/37 Keller 09126 Chemnitz
SUMMARY:Filmclub mittendrin: Kuhle Wampe (Filmclub mittendrin)
DESCRIPTION:Anlässlich des 70.Jahrestages der Uraufführung! Das Buch schrieb B. Brecht\, die Musik stammt von H. Eisler und in der Hauptrolle E. Busch. Sprich die künstlerischen Lichtgestalten des Proletariats vereinen sich um das Schicksal einer Arbeiterfamilie.
ORGANIZER:MAILTO:fuh@hrz.tu-chemnitz.de
UID:2305@www.tu-chemnitz.de
CREATED:20020419T110700Z
DTSTAMP:20210802T202513Z
END:VEVENT
END:VCALENDAR
