BEGIN:VCALENDAR
VERSION:2.0
PRODID:TU Chemnitz
METHOD:PUBLISH
X-WR-CALNAME:Veranstaltungen der TU Chemnitz
X-WR-TIMEZONE:Europe/Berlin
BEGIN:VEVENT
CLASS:PUBLIC
DTSTART;TZID="Europe/Berlin":20020429T180000
DTEND;TZID="Europe/Berlin":20020429T200000
LOCATION:Reichenhainer Str. 70\, Chemnitz (Weinhold-Bau)
SUMMARY:Robotik-AG (Fakultät für Elektrotechnik und Informationstechnik\, Prozessautomatisierung; Fakultät für Informatik\, Künstliche Intelligenz)
DESCRIPTION:Programm am 29. 04. 2002\n• Video: Roboterwesen mit der Natur als Vorbild\n• Technik: Unser Pioneer im Papplabyrinth\n• Lego-Roboter: Und sie bewegen sich doch...\n• Diskussion: Robotik-Projekte in Chemnitz\nrobotik-ag@infotech.tu-chemnitz.de
ORGANIZER:MAILTO:frsa@hrz.tu-chemnitz.de
UID:2296@www.tu-chemnitz.de
CREATED:20020418T134300Z
DTSTAMP:20210802T202514Z
END:VEVENT
END:VCALENDAR
