BEGIN:VCALENDAR
VERSION:2.0
PRODID:TU Chemnitz
METHOD:PUBLISH
X-WR-CALNAME:Veranstaltungen der TU Chemnitz
X-WR-TIMEZONE:Europe/Berlin
BEGIN:VEVENT
CLASS:PUBLIC
DTSTART;TZID="Europe/Berlin":20020422T171500
DTEND;TZID="Europe/Berlin":20020422T184500
LOCATION:Wilhelm-Raabe-Str. 43\, Chemnitz
SUMMARY:Psychologie für Marketing und Management; Tätigkeitsfelder von PsychologInnen im Bereich Marketing (Philosophische Fakultät\, Praktikumsamt)
DESCRIPTION:Veranstaltung im Rahmen der Vortragsreihe "Berufsfelderkundung"\nDr. Wolfgang Melzer\, Diplom-Psychologe\, Steina\nkarla.kebsch@phil.tu-chemnitz.de
ORGANIZER:MAILTO:keka@hrz.tu-chemnitz.de
UID:2291@www.tu-chemnitz.de
CREATED:20020417T110400Z
DTSTAMP:20210802T202513Z
END:VEVENT
END:VCALENDAR
