BEGIN:VCALENDAR
VERSION:2.0
PRODID:TU Chemnitz
METHOD:PUBLISH
X-WR-CALNAME:Veranstaltungen der TU Chemnitz
X-WR-TIMEZONE:Europe/Berlin
BEGIN:VEVENT
CLASS:PUBLIC
DTSTART;TZID="Europe/Berlin":20020611T171500
DTEND;TZID="Europe/Berlin":20020611T184500
LOCATION:Wilhelm-Raabe-Str. 43\, Chemnitz
SUMMARY:Institutskolloquium Psychologie: "Online Lernen\, und keiner geht hin!" (Philosophische Fakultät\, Institut für Psychologie)
DESCRIPTION:Prof. Dr. Beate Baltes\, TU Chemnitz\nDipl.-Psych. F. Machilek\, Tel. 531-6309\, franz.machilek@phil.tu-chemnitz.de
ORGANIZER:MAILTO:pfl@hrz.tu-chemnitz.de
UID:2282@www.tu-chemnitz.de
CREATED:20020415T111200Z
DTSTAMP:20210802T202433Z
END:VEVENT
END:VCALENDAR
