BEGIN:VCALENDAR
VERSION:2.0
PRODID:TU Chemnitz
METHOD:PUBLISH
X-WR-CALNAME:Veranstaltungen der TU Chemnitz
X-WR-TIMEZONE:Europe/Berlin
BEGIN:VEVENT
CLASS:PUBLIC
DTSTART;TZID="Europe/Berlin":20020514T200000
DTEND;TZID="Europe/Berlin":20020514T220000
LOCATION:Propsteigemeinde\, Hohe Str. 1\, 09112 Chemnitz
SUMMARY:Der Geist ist es\, der lebendig macht. (Katholische Studentengemeinde Chemnitz)
DESCRIPTION:ein Vortrag zu Pfingsten\nOrdinariatsrätin Barbara Köhler
ORGANIZER:MAILTO:ester@hrz.tu-chemnitz.de
UID:2267@www.tu-chemnitz.de
CREATED:20020411T202700Z
DTSTAMP:20210802T202450Z
END:VEVENT
END:VCALENDAR
