BEGIN:VCALENDAR
VERSION:2.0
PRODID:TU Chemnitz
METHOD:PUBLISH
X-WR-CALNAME:Veranstaltungen der TU Chemnitz
X-WR-TIMEZONE:Europe/Berlin
BEGIN:VEVENT
CLASS:PUBLIC
DTSTART;TZID="Europe/Berlin":20020507T090000
DTEND;TZID="Europe/Berlin":20020507T160000
LOCATION:Arbeitsamt Chemnitz\, Heinrich-Lorenz-Str. 20\, 09120 Chemnitz\, RAUM WIRD NOCH BEKANNTGEGEBEN
SUMMARY:Bewerbertraining (AIESEC Chemnitz)
DESCRIPTION:Im Bewerbungstraining geht es darum\, zu lernen sich persönlich und fachlich in einer Bewerbung darzustellen\, Interesse zu wecken und Interesse zu zeigen\, in Kontakt zu treten und Vorstellungen zu äußern.\nArbeitsamt Chemnitz\nAnmeldung auf unserer Homepage !!!!
ORGANIZER:MAILTO:goerg@hrz.tu-chemnitz.de
UID:2249@www.tu-chemnitz.de
CREATED:20020407T165600Z
DTSTAMP:20210802T202451Z
END:VEVENT
END:VCALENDAR
