BEGIN:VCALENDAR
VERSION:2.0
PRODID:TU Chemnitz
METHOD:PUBLISH
X-WR-CALNAME:Veranstaltungen der TU Chemnitz
X-WR-TIMEZONE:Europe/Berlin
BEGIN:VEVENT
CLASS:PUBLIC
DTSTART;TZID="Europe/Berlin":20020409T173000
DTEND;TZID="Europe/Berlin":20020409T190000
LOCATION:Hotel Sächsischer Hof\, Brühl 26\, 09111 Chemnitz
SUMMARY:58. Mikroelektronik-Stammtisch: Übertragungstechnologien in Mobilfunknetzen (Fakultät für Elektrotechnik und Informationstechnik\, Angewandte Mikroelektronik Chemnitz e.V. (AMEC))
DESCRIPTION:Teilnahme kostenlos\nHerr Axel Brandt\, Geschäftsführer w-support.com GmbH\, Hartmannsdorf\nProf. Dr. habil. Dietmar Müller\, Tel: (0371) 531-3192
ORGANIZER:MAILTO:pejan@hrz.tu-chemnitz.de
UID:2243@www.tu-chemnitz.de
CREATED:20020405T083600Z
DTSTAMP:20210802T202510Z
END:VEVENT
END:VCALENDAR
