BEGIN:VCALENDAR
VERSION:2.0
PRODID:TU Chemnitz
METHOD:PUBLISH
X-WR-CALNAME:Veranstaltungen der TU Chemnitz
X-WR-TIMEZONE:Europe/Berlin
BEGIN:VEVENT
CLASS:PUBLIC
DTSTART;TZID="Europe/Berlin":19981208T180000
DTEND;TZID="Europe/Berlin":19981208T180000
LOCATION:Uni-Teil 3: Reichenhainer Str. 70\, Chemnitz (Weinhold-Bau)
SUMMARY:Bibliothek einmal anders: Eröffnung der Fotoausstellung "Ein Blick auf Europa" von Regina Rausch\, anschließend findet eine Lesung aus Büchern des Eigenverlages Regina Ebert Rausch statt. Alle Interessenten sind herzlich eingeladen. (Universitätsbibliothek)
DESCRIPTION:Die Fotoausstellung ist dann noch bis 31. März 1999 während der Öffnungszeiten der Teilbibliothek Natur- und Ingenieurwissenschaften zu sehen.\nAnnemarie Kalugin\, Tel. 5 31-13 24\, -24 35
ORGANIZER:MAILTO:iroe@hrz.tu-chemnitz.de
UID:224@www.tu-chemnitz.de
CREATED:/afs/.tu-chemnitz.de/www/log19981203T155600Z
DTSTAMP:20210802T203537Z
END:VEVENT
END:VCALENDAR
