BEGIN:VCALENDAR
VERSION:2.0
PRODID:TU Chemnitz
METHOD:PUBLISH
X-WR-CALNAME:Veranstaltungen der TU Chemnitz
X-WR-TIMEZONE:Europe/Berlin
BEGIN:VEVENT
CLASS:PUBLIC
DTSTART;TZID="Europe/Berlin":20020508T171500
DTEND;TZID="Europe/Berlin":20020508T184500
LOCATION:Reichenhainer Str. 70\, Chemnitz (Zentr. Hörsaal- und Seminargebäude)
SUMMARY:Sicherheit bei der Kernbrennstoff-Entsorgung (Fakultät für Naturwissenschaften\, Institut für Physik)
DESCRIPTION:Physikalisches Kolloquium!\nDr. Günter Suschowk\, NIS-Ingenieurgesellschaft mbH\, Niederlassung Rheinsberg\nDr. Peter Blaudeck\, Tel. 3278
ORGANIZER:MAILTO:elhi@hrz.tu-chemnitz.de
UID:2201@www.tu-chemnitz.de
CREATED:20020326T124600Z
DTSTAMP:20210802T202452Z
END:VEVENT
END:VCALENDAR
