BEGIN:VCALENDAR
VERSION:2.0
PRODID:TU Chemnitz
METHOD:PUBLISH
X-WR-CALNAME:Veranstaltungen der TU Chemnitz
X-WR-TIMEZONE:Europe/Berlin
BEGIN:VEVENT
CLASS:PUBLIC
DTSTART;TZID="Europe/Berlin":20020605T190000
DTEND;TZID="Europe/Berlin":20020606T010000
LOCATION:Campus\, Innenhof Weinholdbau\, Reichenhainer Straße
SUMMARY:Sommerfest der Fachschaften (Fachschaften der TU-Chemnitz)
DESCRIPTION:Das orginale Sommerfest der Fachschaften\n\nMotto: Frieden!\n\nfreier Eintritt \n\nLeckeres vom Grill und aus dem Faß zu studiefreundlichen Preisen\n\nNeben DJs sorgt die Band "Wolken und Brücken" für Harmonie\n\nLagerfeuer!\nsommerfest@stura.tu-chemnitz.de
ORGANIZER:MAILTO:wesv@hrz.tu-chemnitz.de
UID:2200@www.tu-chemnitz.de
CREATED:20020322T123900Z
DTSTAMP:20210802T202435Z
END:VEVENT
END:VCALENDAR
