BEGIN:VCALENDAR
VERSION:2.0
PRODID:TU Chemnitz
METHOD:PUBLISH
X-WR-CALNAME:Veranstaltungen der TU Chemnitz
X-WR-TIMEZONE:Europe/Berlin
BEGIN:VEVENT
CLASS:PUBLIC
DTSTART;TZID="Europe/Berlin":20020409T200000
DTEND;TZID="Europe/Berlin":20020409T230000
LOCATION:Reichenhainer Str. 70\, Chemnitz (Weinhold-Bau)
SUMMARY:"Wollt ihr den totalen Krieg?" (Fachschaftsrat für Maschinenbau und Verfahrenstechnik)
DESCRIPTION:"Diese Stunde der Idiotie" - Wollt ihr den totalen Krieg?\nSerdar Somuncu liest Joseph Goebbels;\nDanach Podiumsdiskussion: \n"DEMOKRATIE\, MACHT UND GELD - Gesellschaftsform auf Dauer?"\nSerdar Somuncu\, Kammerensenble Neuss\nfsrmbv@tu-chemnitz.de
ORGANIZER:MAILTO:maet@hrz.tu-chemnitz.de
UID:2193@www.tu-chemnitz.de
CREATED:20020318T135700Z
DTSTAMP:20210802T202505Z
END:VEVENT
END:VCALENDAR
