BEGIN:VCALENDAR
VERSION:2.0
PRODID:TU Chemnitz
METHOD:PUBLISH
X-WR-CALNAME:Veranstaltungen der TU Chemnitz
X-WR-TIMEZONE:Europe/Berlin
BEGIN:VEVENT
CLASS:PUBLIC
DTSTART;TZID="Europe/Berlin":20020313T200000
DTEND;TZID="Europe/Berlin":20020313T230000
LOCATION:Reichenhainer Str. 55\, Chemnitz (Mensa)
SUMMARY:Champions- League Manchester-Bayern
DESCRIPTION:Der Euro kam und alles wurde teurer....nur im Tac da gehts anders herum !!\nDas Bier zur Kneipe jetzt 1\,50 Euro und der Caipi 2 Euro !!
ORGANIZER:MAILTO:made@hrz.tu-chemnitz.de
UID:2175@www.tu-chemnitz.de
CREATED:20020304T195000Z
DTSTAMP:20210802T202541Z
END:VEVENT
END:VCALENDAR
