BEGIN:VCALENDAR
VERSION:2.0
PRODID:TU Chemnitz
METHOD:PUBLISH
X-WR-CALNAME:Veranstaltungen der TU Chemnitz
X-WR-TIMEZONE:Europe/Berlin
BEGIN:VEVENT
CLASS:PUBLIC
DTSTART;TZID="Europe/Berlin":20020917T163000
DTEND;TZID="Europe/Berlin":20020917T163000
LOCATION:Institut für Physikalische und Mechanische Technoloien (IPMT)\, Lassallestr. 14\, 09117 Chemnitz
SUMMARY:\"Produktverfolgung\, Optimierung und Organisation der kaufmännischen und technischen Vorgänge in einem Wärmebehandlungsbetrieb\" (Fakultät für Maschinenbau und Verfahrenstechnik\, AWT/VDI-W-Arbeitskreis Wärmebehandlung und Werkstofftechnik Chemnitz/Freiberg\, Bereich Chemnitz)
DESCRIPTION:Dipl.-Ing. Stefan Heineck\, Stange Elektronik GmbH\nDipl.-Ing. Ulrich Thieme\, Tel 0371/3363222
ORGANIZER:MAILTO:iroe@hrz.tu-chemnitz.de
UID:2170@www.tu-chemnitz.de
CREATED:20020304T114400Z
DTSTAMP:20210802T202320Z
END:VEVENT
END:VCALENDAR
