BEGIN:VCALENDAR
VERSION:2.0
PRODID:TU Chemnitz
METHOD:PUBLISH
X-WR-CALNAME:Veranstaltungen der TU Chemnitz
X-WR-TIMEZONE:Europe/Berlin
BEGIN:VEVENT
CLASS:PUBLIC
DTSTART;TZID="Europe/Berlin":20020417T171500
DTEND;TZID="Europe/Berlin":20020417T184500
LOCATION:Reichenhainer Str. 70\, Chemnitz (Zentr. Hörsaal- und Seminargebäude)
SUMMARY:Der tiefste Blick in den Kosmos: Astronomie mit dem "Very Large Telescope" (Fakultät für Naturwissenschaften\, Institut für Physik)
DESCRIPTION:Physikalisches Kolloquium!\nProf. Dr. Immo Appenzeller\, Landessternwarte Heidelberg\nProf. Dr. Häussler\, Tel. 3040\, 3170
ORGANIZER:MAILTO:sumar@hrz.tu-chemnitz.de
UID:2169@www.tu-chemnitz.de
CREATED:20020304T114000Z
DTSTAMP:20210802T202510Z
END:VEVENT
END:VCALENDAR
