BEGIN:VCALENDAR
VERSION:2.0
PRODID:TU Chemnitz
METHOD:PUBLISH
X-WR-CALNAME:Veranstaltungen der TU Chemnitz
X-WR-TIMEZONE:Europe/Berlin
BEGIN:VEVENT
CLASS:PUBLIC
DTSTART;TZID="Europe/Berlin":20210803T210000
DTEND;TZID="Europe/Berlin":20210803T230000
LOCATION:Filmclub "mittendrin"\, Reichenhainer Str. 35/37\, Keller Mittelbau
SUMMARY:Kino: SHORTS ATTACK: GOLDEN SHORTS 2020 (»mittendrin« – das campuskino)
DESCRIPTION:In den Golden Shorts werden jedes Jahr die besten internationalen Kurzfilme zusammengestellt. Diesmal geht's u.A. um den Traum von Fliegen\, Rentner im Glück\, das Aussterben der Männer und kreative Geschenksuche. Alle Filme in der OV mit dt. Untertiteln.\nfilmclub@tu-chemnitz.de
ORGANIZER:MAILTO:richard.geuter@s2015.tu-chemnitz.de
UID:21668@www.tu-chemnitz.de
CREATED:20210802T092700Z
DTSTAMP:20210802T183347Z
END:VEVENT
END:VCALENDAR
