BEGIN:VCALENDAR
VERSION:2.0
PRODID:TU Chemnitz
METHOD:PUBLISH
X-WR-CALNAME:Veranstaltungen der TU Chemnitz
X-WR-TIMEZONE:Europe/Berlin
BEGIN:VEVENT
CLASS:PUBLIC
DTSTART;TZID="Europe/Berlin":20020404T153000
DTEND;TZID="Europe/Berlin":20020404T164500
LOCATION:Reichenhainer Str. 70\, Chemnitz (Zentr. Hörsaal- und Seminargebäude)
SUMMARY:Kolloquium des Sonderforschungsbereiches SFB 379 "Mikromechanische Sensor- und Aktorarrays": Miniaturisiertes Doppel-AFM für den Nichtkontakt-Modus (Fakultät für Elektrotechnik und Informationstechnik\, Zentrum für Mikrotechnologien)
DESCRIPTION:Statusbericht zum Teilprojekt B 6\nDr. Anne-Dorothea Müller\, TU Chemnitz\, Institut für Physik\nDr. Seckel\, 531 3261
ORGANIZER:MAILTO:seckel@hrz.tu-chemnitz.de
UID:2162@www.tu-chemnitz.de
CREATED:20020228T100000Z
DTSTAMP:20210802T202512Z
END:VEVENT
END:VCALENDAR
