BEGIN:VCALENDAR
VERSION:2.0
PRODID:TU Chemnitz
METHOD:PUBLISH
X-WR-CALNAME:Veranstaltungen der TU Chemnitz
X-WR-TIMEZONE:Europe/Berlin
BEGIN:VEVENT
CLASS:PUBLIC
DTSTART;TZID="Europe/Berlin":19981216T090000
DTEND;TZID="Europe/Berlin":19981216T103000
LOCATION:Uni-Teil 3: Reichenhainer Str. 70\, Chemnitz (Rühlmann-Bau)
SUMMARY:Wissenschaftliches Kolloquium des Institutes für Fertigungsmeßtechnik und Qualitätssicherung i.G.(IFMQ): "Stand des EU-Projektes "Kalibriernormale für Rauheitsmeßgeräte" (Fakultät für Maschinenbau und Verfahrenstechnik\, IFMQ)
DESCRIPTION:Prof. Dr. Harry Trumpold\, TU Chemnitz\n/Anmeldung: Dagmar Schmidt\, Tel. 5 31-80 59
ORGANIZER:MAILTO:iroe@hrz.tu-chemnitz.de
UID:216@www.tu-chemnitz.de
CREATED:19981202T154400Z
DTSTAMP:20210802T203539Z
END:VEVENT
END:VCALENDAR
