BEGIN:VCALENDAR
VERSION:2.0
PRODID:TU Chemnitz
METHOD:PUBLISH
X-WR-CALNAME:Veranstaltungen der TU Chemnitz
X-WR-TIMEZONE:Europe/Berlin
BEGIN:VEVENT
CLASS:PUBLIC
DTSTART;TZID="Europe/Berlin":20020306T110000
DTEND;TZID="Europe/Berlin":20020306T123000
LOCATION:Chemnitz Park-Halle Röhrsdorf
SUMMARY:Eröffnung der intec 2002 - 5. Industrie-Fachmesse
DESCRIPTION:Offizielle Messeeröffnung mit: \n- Herrn Bundesminister Rolf Schwanitz\n- Herrn Staatsminister Dr. Kajo Schommer\n- Herrn Oberbürgermeister Dr. Peter Seifert
ORGANIZER:MAILTO:reme@hrz.tu-chemnitz.de
UID:2156@www.tu-chemnitz.de
CREATED:20020227T145500Z
DTSTAMP:20210802T202540Z
END:VEVENT
END:VCALENDAR
