BEGIN:VCALENDAR
VERSION:2.0
PRODID:TU Chemnitz
METHOD:PUBLISH
X-WR-CALNAME:Veranstaltungen der TU Chemnitz
X-WR-TIMEZONE:Europe/Berlin
BEGIN:VEVENT
CLASS:PUBLIC
DTSTART;TZID="Europe/Berlin":20020514T200000
DTEND;TZID="Europe/Berlin":20020515T030000
LOCATION:Reichenhainer Str. 55\, Chemnitz (Mensa)
SUMMARY:Party im Tac auf Mittwoch nach der Finalübertragung verschoben
DESCRIPTION:
ORGANIZER:MAILTO:made@hrz.tu-chemnitz.de
UID:2152@www.tu-chemnitz.de
CREATED:20020227T143200Z
DTSTAMP:20210802T202450Z
END:VEVENT
END:VCALENDAR
