BEGIN:VCALENDAR
VERSION:2.0
PRODID:TU Chemnitz
METHOD:PUBLISH
X-WR-CALNAME:Veranstaltungen der TU Chemnitz
X-WR-TIMEZONE:Europe/Berlin
BEGIN:VEVENT
CLASS:PUBLIC
DTSTART;TZID="Europe/Berlin":20021026T190000
DTEND;TZID="Europe/Berlin":20021026T230000
LOCATION:Reichenhainer Str. 55\, Chemnitz (Mensa)
SUMMARY:Internationales Jazzfest im Rahmen der Chemnitzer Begegnungen (Kulturwochen)
DESCRIPTION:Das zweite Mal hat die Mensa die Ehre Teil der \nKulturwochen "Chemnitzer Begegnungen" zu sein\, \nvielleicht auch wieder mit mehr als 1500 Gästen\nund mit Larry Coryell\, Paul Wertico\, Marc Egan-Trio - USA\nDer „Ghetto-Swinger“ - Coco Schumann-Quartett\ninfo@treff-am-campus.de
ORGANIZER:MAILTO:made@hrz.tu-chemnitz.de
UID:2151@www.tu-chemnitz.de
CREATED:20020227T142600Z
DTSTAMP:20210802T202248Z
END:VEVENT
END:VCALENDAR
