BEGIN:VCALENDAR
VERSION:2.0
PRODID:TU Chemnitz
METHOD:PUBLISH
X-WR-CALNAME:Veranstaltungen der TU Chemnitz
X-WR-TIMEZONE:Europe/Berlin
BEGIN:VEVENT
CLASS:PUBLIC
DTSTART;TZID="Europe/Berlin":20020214T210000
DTEND;TZID="Europe/Berlin":20020214T230000
LOCATION:Reichenhainer St.35/37 Keller 09126 Chemnitz
SUMMARY:Filmclub mittendrin: !Zusammen! (Filmclub mittendrin)
DESCRIPTION:Ein Film über Leute\, die versuchen\, zusammenzuleben. Manchmal gelingt das ganz gut\, manchmal überhaupt nicht. Hier geht es um Liebe und Scheidung\, um Kinder und Erwachsene\, um Freundschaft\, Sex und Fußball. (S 2000) R: Lukas Moodysson
ORGANIZER:MAILTO:fuh@hrz.tu-chemnitz.de
UID:2127@www.tu-chemnitz.de
CREATED:20020221T183000Z
DTSTAMP:20210802T202558Z
END:VEVENT
END:VCALENDAR
