BEGIN:VCALENDAR
VERSION:2.0
PRODID:TU Chemnitz
METHOD:PUBLISH
X-WR-CALNAME:Veranstaltungen der TU Chemnitz
X-WR-TIMEZONE:Europe/Berlin
BEGIN:VEVENT
CLASS:PUBLIC
DTSTART;VALUE=DATE:20200430
DTEND;VALUE=DATE:20200430
LOCATION:Filmclub "mittendrin"\, Reichenhainer Str. 35/37\, Keller Mittelbau 
SUMMARY:Virtual Kino: SHORTS ATTACK – SEX UND WAHNSINN (»mittendrin« – das campuskino)
DESCRIPTION:Wir hätten euch die April-Shorts gern zu campus@night gezeigt. Da das aber aktuell nicht geht\, gibt's virtuelles Kino – Erlöse gehen an uns (Details in FB-Veranstaltung).\n9 Kurzfilme in 80 Minuten aus aller Welt\, teilweise animiert\, teilweise real.\nfilmclub@tu-chemnitz.de
ORGANIZER:MAILTO:richard.geuter@s2015.tu-chemnitz.de
UID:21201@www.tu-chemnitz.de
CREATED:20200430T130200Z
DTSTAMP:20210801T215519Z
END:VEVENT
END:VCALENDAR
