BEGIN:VCALENDAR
VERSION:2.0
PRODID:TU Chemnitz
METHOD:PUBLISH
X-WR-CALNAME:Veranstaltungen der TU Chemnitz
X-WR-TIMEZONE:Europe/Berlin
BEGIN:VEVENT
CLASS:PUBLIC
DTSTART;TZID="Europe/Berlin":20020223T150000
DTEND;TZID="Europe/Berlin":20020223T180000
LOCATION:Reichenhainer Str. 55\, Chemnitz (Mensa)
SUMMARY:Bundesliga Konferenz (Studentenclub TaC)
DESCRIPTION:Bayern München-Cottbus\nNürnberg-Köln\nRostock-Stuttgart\nSt. Pauli-Gladbach\nSchalke-Freiburg\nWolfsburg-TSV 1860\nHertha BSC-K`Lautern
ORGANIZER:MAILTO:made@hrz.tu-chemnitz.de
UID:2120@www.tu-chemnitz.de
CREATED:20020219T162700Z
DTSTAMP:20210802T202602Z
END:VEVENT
END:VCALENDAR
